BEGIN:VCALENDAR
VERSION:2.0
PRODID:-//Phoenix Magic Club - ECPv6.15.20//NONSGML v1.0//EN
CALSCALE:GREGORIAN
METHOD:PUBLISH
X-WR-CALNAME:Phoenix Magic Club
X-ORIGINAL-URL:https://phoenixmagic.club
X-WR-CALDESC:Events for Phoenix Magic Club
REFRESH-INTERVAL;VALUE=DURATION:PT1H
X-Robots-Tag:noindex
X-PUBLISHED-TTL:PT1H
BEGIN:VTIMEZONE
TZID:America/Phoenix
BEGIN:STANDARD
TZOFFSETFROM:-0700
TZOFFSETTO:-0700
TZNAME:MST
DTSTART:20220101T000000
END:STANDARD
END:VTIMEZONE
BEGIN:VEVENT
DTSTART;TZID=America/Phoenix:20231215T200000
DTEND;TZID=America/Phoenix:20231215T213000
DTSTAMP:20260425T202002
CREATED:20231216T002652Z
LAST-MODIFIED:20231216T234244Z
UID:359-1702670400-1702675800@phoenixmagic.club
SUMMARY:The Smith Brothers - Mentalism Unlocked Show
DESCRIPTION:
URL:https://phoenixmagic.club/event/the-smith-brothers-mentalism-unlocked-show/
LOCATION:Backstreet Asia\, 965 E Van Buren St\, Suite 123\, Avondale\, AZ\, United States
CATEGORIES:Show
END:VEVENT
BEGIN:VEVENT
DTSTART;TZID=America/Phoenix:20231216T130000
DTEND;TZID=America/Phoenix:20231216T140000
DTSTAMP:20260425T202002
CREATED:20231216T002955Z
LAST-MODIFIED:20231216T234244Z
UID:362-1702731600-1702735200@phoenixmagic.club
SUMMARY:Scottsdazzle Magic Show with Craig Davis
DESCRIPTION:At Marshall Way Bridge (over the canal) \n1PM and 2PM (Two Shows!) \nFree\, just show up and marvel!
URL:https://phoenixmagic.club/event/scottsdazzle-magic-show-with-craig-davis/
LOCATION:Marshall Way Bridge\, 7124 E Stetson Dr\, Scottsdale\, AZ
CATEGORIES:Show
END:VEVENT
END:VCALENDAR