BEGIN:VCALENDAR
VERSION:2.0
PRODID:-//Phoenix Magic Club - ECPv6.15.20//NONSGML v1.0//EN
CALSCALE:GREGORIAN
METHOD:PUBLISH
X-WR-CALNAME:Phoenix Magic Club
X-ORIGINAL-URL:https://phoenixmagic.club
X-WR-CALDESC:Events for Phoenix Magic Club
REFRESH-INTERVAL;VALUE=DURATION:PT1H
X-Robots-Tag:noindex
X-PUBLISHED-TTL:PT1H
BEGIN:VTIMEZONE
TZID:America/Phoenix
BEGIN:STANDARD
TZOFFSETFROM:-0700
TZOFFSETTO:-0700
TZNAME:MST
DTSTART:20230101T000000
END:STANDARD
END:VTIMEZONE
BEGIN:VEVENT
DTSTART;TZID=America/Phoenix:20240608T143000
DTEND;TZID=America/Phoenix:20240608T210000
DTSTAMP:20260421T044009
CREATED:20240427T181954Z
LAST-MODIFIED:20240427T181954Z
UID:603-1717857000-1717880400@phoenixmagic.club
SUMMARY:Dana Daniels! Phoenix Parlour Experience
DESCRIPTION:Three shows: 2:30PM\, 5PM and 7:30PM \nMature audiences 8+ years: A “clean” show for adults and well-behaved children. \n 
URL:https://phoenixmagic.club/event/dana-daniels-parlour-experience/
LOCATION:Renaissance Hotel\, Phoenix\, AZ
CATEGORIES:Show
END:VEVENT
BEGIN:VEVENT
DTSTART;TZID=America/Phoenix:20240614T190000
DTEND;TZID=America/Phoenix:20240614T200000
DTSTAMP:20260421T044009
CREATED:20240511T234145Z
LAST-MODIFIED:20240511T234145Z
UID:672-1718391600-1718395200@phoenixmagic.club
SUMMARY:An Evening of Wonder
DESCRIPTION:An Evening of Wonder featuring the Magic of Sebastian \n 
URL:https://phoenixmagic.club/event/an-evening-of-wonder/
LOCATION:Combs Performing Arts Center\, 2505 E Germann Rd\, San Tan Valley\, AZ\, 85140\, United States
CATEGORIES:Show
ATTACH;FMTTYPE=image/jpeg:https://phoenixmagic.club/wp-content/uploads/2024/05/image.jpeg
END:VEVENT
BEGIN:VEVENT
DTSTART;TZID=America/Phoenix:20240615T143000
DTEND;TZID=America/Phoenix:20240615T210000
DTSTAMP:20260421T044009
CREATED:20240427T182137Z
LAST-MODIFIED:20240427T182137Z
UID:605-1718461800-1718485200@phoenixmagic.club
SUMMARY:Mat O'Neill & Mark Gibson! Phoenix Parlour Experience
DESCRIPTION:Three shows: 2:30PM\, 5PM and 7:30PM \nMature audiences 8+ years: A “clean” show for adults and well-behaved children. \n 
URL:https://phoenixmagic.club/event/oneill-gibson-phoenix-parlour-experience/
LOCATION:Renaissance Hotel\, Phoenix\, AZ
CATEGORIES:Show
END:VEVENT
BEGIN:VEVENT
DTSTART;TZID=America/Phoenix:20240615T160000
DTEND;TZID=America/Phoenix:20240615T171500
DTSTAMP:20260421T044009
CREATED:20240512T001934Z
LAST-MODIFIED:20240512T001934Z
UID:676-1718467200-1718471700@phoenixmagic.club
SUMMARY:All Ages Comedy Magic Show
DESCRIPTION:Prepare for an unforgettable afternoon of laughter and astonishment with John Fitzsimmons\, The Comedy Trickster! This all-ages show on June 15th at 4:00 PM is the perfect pre-Father’s Day treat for the whole family.\nWith over two decades of experience as a seasoned magician and a 3-time Guinness World Records holder\, John Fitzsimmons has graced stages across the nation and appeared on popular TV shows like “America’s Got Talent\,” “The Gong Show\,” “I Can See Your Voice\,” and “Penn & Teller: Fool Us.” Audiences can rest assured of his expertise and professionalism\, ensuring a magical adventure they’ll cherish forever.\nDon’t miss this chance to create lasting memories with your family and friends. Secure your tickets now and get ready for a magical experience like no other at Stir Crazy Comedy Club.\nGet your tickets before they disappear!
URL:https://phoenixmagic.club/event/all-ages-comedy-magic-show/
LOCATION:Stir Crazy Comedy Club\, 6751 N Sunset Blvd Ste E-206\, Glendale\, AZ\, United States
CATEGORIES:Show
ATTACH;FMTTYPE=image/jpeg:https://phoenixmagic.club/wp-content/uploads/2024/05/image-1.jpeg
END:VEVENT
END:VCALENDAR