BEGIN:VCALENDAR
VERSION:2.0
PRODID:-//Phoenix Magic Club - ECPv6.15.20//NONSGML v1.0//EN
CALSCALE:GREGORIAN
METHOD:PUBLISH
X-WR-CALNAME:Phoenix Magic Club
X-ORIGINAL-URL:https://phoenixmagic.club
X-WR-CALDESC:Events for Phoenix Magic Club
REFRESH-INTERVAL;VALUE=DURATION:PT1H
X-Robots-Tag:noindex
X-PUBLISHED-TTL:PT1H
BEGIN:VTIMEZONE
TZID:America/Phoenix
BEGIN:STANDARD
TZOFFSETFROM:-0700
TZOFFSETTO:-0700
TZNAME:MST
DTSTART:20230101T000000
END:STANDARD
END:VTIMEZONE
BEGIN:VEVENT
DTSTART;TZID=America/Phoenix:20240127T150000
DTEND;TZID=America/Phoenix:20240127T193000
DTSTAMP:20260425T203256
CREATED:20231216T052316Z
LAST-MODIFIED:20231216T234244Z
UID:374-1706367600-1706383800@phoenixmagic.club
SUMMARY:Magic and Illusions of Eric Giliam
DESCRIPTION:Two shows — 3pm and 7:30pm.
URL:https://phoenixmagic.club/event/magic-and-illusions-of-eric-giliam/
LOCATION:Chandler Center for the Arts\, 250 North Arizona Avenue\, Chandler\, AZ\, 85224\, United States
CATEGORIES:Show
END:VEVENT
END:VCALENDAR