BEGIN:VCALENDAR
VERSION:2.0
PRODID:-//Phoenix Magic Club - ECPv6.15.20//NONSGML v1.0//EN
CALSCALE:GREGORIAN
METHOD:PUBLISH
X-WR-CALNAME:Phoenix Magic Club
X-ORIGINAL-URL:https://phoenixmagic.club
X-WR-CALDESC:Events for Phoenix Magic Club
REFRESH-INTERVAL;VALUE=DURATION:PT1H
X-Robots-Tag:noindex
X-PUBLISHED-TTL:PT1H
BEGIN:VTIMEZONE
TZID:America/Phoenix
BEGIN:STANDARD
TZOFFSETFROM:-0700
TZOFFSETTO:-0700
TZNAME:MST
DTSTART:20230101T000000
END:STANDARD
END:VTIMEZONE
BEGIN:VEVENT
DTSTART;TZID=America/Phoenix:20240201T200000
DTEND;TZID=America/Phoenix:20240201T213000
DTSTAMP:20260425T185115
CREATED:20240122T195939Z
LAST-MODIFIED:20240122T195939Z
UID:507-1706817600-1706823000@phoenixmagic.club
SUMMARY:An R-Rated Magic Show
DESCRIPTION:This is not your grandfather’s magic show…\nSide-splitting comedy and mind-blowing magic are brought into the spotlight as comedy magician Grant Freeman brings his unique\, raunchy show full of surprises to Tempe Center for the Arts! \nThis is the show that will have you asking\, “How the ****?” and “What the ****?”
URL:https://phoenixmagic.club/event/an-r-rated-magic-show/
LOCATION:Tempe Center for the Arts\, 700 W. Rio Salado Parkway\, Tempe\, AZ\, 85281\, United States
CATEGORIES:Show
END:VEVENT
END:VCALENDAR