BEGIN:VCALENDAR
VERSION:2.0
PRODID:-//Phoenix Magic Club - ECPv6.15.20//NONSGML v1.0//EN
CALSCALE:GREGORIAN
METHOD:PUBLISH
X-ORIGINAL-URL:https://phoenixmagic.club
X-WR-CALDESC:Events for Phoenix Magic Club
REFRESH-INTERVAL;VALUE=DURATION:PT1H
X-Robots-Tag:noindex
X-PUBLISHED-TTL:PT1H
BEGIN:VTIMEZONE
TZID:America/Phoenix
BEGIN:STANDARD
TZOFFSETFROM:-0700
TZOFFSETTO:-0700
TZNAME:MST
DTSTART:20230101T000000
END:STANDARD
END:VTIMEZONE
BEGIN:VEVENT
DTSTART;TZID=America/Phoenix:20240202T190000
DTEND;TZID=America/Phoenix:20240202T213000
DTSTAMP:20260425T185232
CREATED:20231216T233547Z
LAST-MODIFIED:20231216T234244Z
UID:407-1706900400-1706909400@phoenixmagic.club
SUMMARY:Drew Murray's Rare Magic
DESCRIPTION:Sign-up for early access to tickets one hour before they are released to the public. Events sell out within minutes after release.\nOn sale Friday\, Jan 12\, 2024 at 11:00 AM MT.\nTickets start at $64. Ages 18+\nShows February 2 and 3\, 2024
URL:https://phoenixmagic.club/event/drew-murrays-rare-magic/
LOCATION:Camby Hotel\, 2401 E Camelback Rd\, Phoenix\, AZ\, 85016\, United States
CATEGORIES:Show
END:VEVENT
END:VCALENDAR