BEGIN:VCALENDAR
VERSION:2.0
PRODID:-//Phoenix Magic Club - ECPv6.15.20//NONSGML v1.0//EN
CALSCALE:GREGORIAN
METHOD:PUBLISH
X-WR-CALNAME:Phoenix Magic Club
X-ORIGINAL-URL:https://phoenixmagic.club
X-WR-CALDESC:Events for Phoenix Magic Club
REFRESH-INTERVAL;VALUE=DURATION:PT1H
X-Robots-Tag:noindex
X-PUBLISHED-TTL:PT1H
BEGIN:VTIMEZONE
TZID:America/Phoenix
BEGIN:STANDARD
TZOFFSETFROM:-0700
TZOFFSETTO:-0700
TZNAME:MST
DTSTART:20230101T000000
END:STANDARD
END:VTIMEZONE
BEGIN:VEVENT
DTSTART;TZID=America/Phoenix:20240204T190000
DTEND;TZID=America/Phoenix:20240204T210000
DTSTAMP:20260425T185032
CREATED:20240101T222551Z
LAST-MODIFIED:20240101T222551Z
UID:468-1707073200-1707080400@phoenixmagic.club
SUMMARY:The Magic of Eric Eaton: Magic For Adults
DESCRIPTION:One show\, 7 PM\, Ages 18+
URL:https://phoenixmagic.club/event/the-magic-of-eric-eaton-magic-for-adults-2/
LOCATION:Desert Ridge Improv\, 21001 N. Tatum Blvd\, Phoenix\, AZ\, 85050\, United States
CATEGORIES:Show
END:VEVENT
END:VCALENDAR