BEGIN:VCALENDAR
VERSION:2.0
PRODID:-//Phoenix Magic Club - ECPv6.15.20//NONSGML v1.0//EN
CALSCALE:GREGORIAN
METHOD:PUBLISH
X-ORIGINAL-URL:https://phoenixmagic.club
X-WR-CALDESC:Events for Phoenix Magic Club
REFRESH-INTERVAL;VALUE=DURATION:PT1H
X-Robots-Tag:noindex
X-PUBLISHED-TTL:PT1H
BEGIN:VTIMEZONE
TZID:America/Phoenix
BEGIN:STANDARD
TZOFFSETFROM:-0700
TZOFFSETTO:-0700
TZNAME:MST
DTSTART:20230101T000000
END:STANDARD
END:VTIMEZONE
BEGIN:VEVENT
DTSTART;TZID=America/Phoenix:20240217T163000
DTEND;TZID=America/Phoenix:20240217T210000
DTSTAMP:20260425T190025
CREATED:20231223T224014Z
LAST-MODIFIED:20231223T225634Z
UID:442-1708187400-1708203600@phoenixmagic.club
SUMMARY:Carnival of Illusion Super-Duper Stage Experience
DESCRIPTION:Two shows: 4:30PM and 7:30PM \n 
URL:https://phoenixmagic.club/event/carnival-of-illusion-super-duper-stage-experience/
LOCATION:Mesa Arts Center\, 1 East Main St\, Mesa\, AZ\, 85201\, United States
CATEGORIES:Show
END:VEVENT
END:VCALENDAR