BEGIN:VCALENDAR
VERSION:2.0
PRODID:-//Phoenix Magic Club - ECPv6.15.20//NONSGML v1.0//EN
CALSCALE:GREGORIAN
METHOD:PUBLISH
X-WR-CALNAME:Phoenix Magic Club
X-ORIGINAL-URL:https://phoenixmagic.club
X-WR-CALDESC:Events for Phoenix Magic Club
REFRESH-INTERVAL;VALUE=DURATION:PT1H
X-Robots-Tag:noindex
X-PUBLISHED-TTL:PT1H
BEGIN:VTIMEZONE
TZID:America/Phoenix
BEGIN:STANDARD
TZOFFSETFROM:-0700
TZOFFSETTO:-0700
TZNAME:MST
DTSTART:20230101T000000
END:STANDARD
END:VTIMEZONE
BEGIN:VEVENT
DTSTART;TZID=America/Phoenix:20240224T130000
DTEND;TZID=America/Phoenix:20240224T210000
DTSTAMP:20260425T185807
CREATED:20231223T230033Z
LAST-MODIFIED:20231223T230033Z
UID:445-1708779600-1708808400@phoenixmagic.club
SUMMARY:Carnival of Illusion Super-Duper Stage Experience
DESCRIPTION:Three shows: 1PM\, 4:30PM and 7:30PM \n 
URL:https://phoenixmagic.club/event/carnival-of-illusion-super-duper-stage-experience-2/
LOCATION:Mesa Arts Center\, 1 East Main St\, Mesa\, AZ\, 85201\, United States
CATEGORIES:Show
END:VEVENT
END:VCALENDAR