BEGIN:VCALENDAR
VERSION:2.0
PRODID:-//Phoenix Magic Club - ECPv6.15.20//NONSGML v1.0//EN
CALSCALE:GREGORIAN
METHOD:PUBLISH
X-ORIGINAL-URL:https://phoenixmagic.club
X-WR-CALDESC:Events for Phoenix Magic Club
REFRESH-INTERVAL;VALUE=DURATION:PT1H
X-Robots-Tag:noindex
X-PUBLISHED-TTL:PT1H
BEGIN:VTIMEZONE
TZID:America/Phoenix
BEGIN:STANDARD
TZOFFSETFROM:-0700
TZOFFSETTO:-0700
TZNAME:MST
DTSTART:20230101T000000
END:STANDARD
END:VTIMEZONE
BEGIN:VEVENT
DTSTART;TZID=America/Phoenix:20240225T200000
DTEND;TZID=America/Phoenix:20240225T213000
DTSTAMP:20260425T173956
CREATED:20240123T023715Z
LAST-MODIFIED:20240123T023715Z
UID:510-1708891200-1708896600@phoenixmagic.club
SUMMARY:Lance Burton - Master Magician and Friends
DESCRIPTION:Important Event Info: MUST BE 21 & OLDER TO ATTEND\nNo Refunds/Exchanges\nReserved Seating and Standing Room Only Options Available\nDoors Open at 7:00pm\nNo Camera/Audio/Video Recording
URL:https://phoenixmagic.club/event/lance-burton-master-magician-and-friends/
LOCATION:Talking Stick – Salt River Grand Ballroom\, 9800 E Talking Stick Way\, Scottsdale\, AZ\, 85256\, United States
CATEGORIES:Show
END:VEVENT
END:VCALENDAR