BEGIN:VCALENDAR
VERSION:2.0
PRODID:-//Phoenix Magic Club - ECPv6.15.20//NONSGML v1.0//EN
CALSCALE:GREGORIAN
METHOD:PUBLISH
X-ORIGINAL-URL:https://phoenixmagic.club
X-WR-CALDESC:Events for Phoenix Magic Club
REFRESH-INTERVAL;VALUE=DURATION:PT1H
X-Robots-Tag:noindex
X-PUBLISHED-TTL:PT1H
BEGIN:VTIMEZONE
TZID:America/Phoenix
BEGIN:STANDARD
TZOFFSETFROM:-0700
TZOFFSETTO:-0700
TZNAME:MST
DTSTART:20230101T000000
END:STANDARD
END:VTIMEZONE
BEGIN:VEVENT
DTSTART;TZID=America/Phoenix:20240302T193000
DTEND;TZID=America/Phoenix:20240302T203000
DTSTAMP:20260425T173957
CREATED:20240203T060308Z
LAST-MODIFIED:20240203T061015Z
UID:578-1709407800-1709411400@phoenixmagic.club
SUMMARY:A Stroke of Genius with Brady Ramsey
DESCRIPTION:Over The Top Magic Presents – ‘A Stroke of Genius’ \nJoin us for an enchanting evening of spellbinding wonders and mesmerizing effects at “A Stroke of Genius\,” presented by Over The Top Magic! \nArrive early and enjoy dinner at the venue. Show starts promptly at 7:30pm. \nTickets $20
URL:https://phoenixmagic.club/event/a-stroke-of-genius-with-brady-ramsey/
LOCATION:Charley’s at The Lakes\, 19260 North Westbrook Parkway\, Peoria\, AZ\, 85382\, United States
CATEGORIES:Show
END:VEVENT
END:VCALENDAR