BEGIN:VCALENDAR
VERSION:2.0
PRODID:-//Phoenix Magic Club - ECPv6.15.20//NONSGML v1.0//EN
CALSCALE:GREGORIAN
METHOD:PUBLISH
X-ORIGINAL-URL:https://phoenixmagic.club
X-WR-CALDESC:Events for Phoenix Magic Club
REFRESH-INTERVAL;VALUE=DURATION:PT1H
X-Robots-Tag:noindex
X-PUBLISHED-TTL:PT1H
BEGIN:VTIMEZONE
TZID:America/Phoenix
BEGIN:STANDARD
TZOFFSETFROM:-0700
TZOFFSETTO:-0700
TZNAME:MST
DTSTART:20230101T000000
END:STANDARD
END:VTIMEZONE
BEGIN:VEVENT
DTSTART;TZID=America/Phoenix:20240330T140000
DTEND;TZID=America/Phoenix:20240330T210000
DTSTAMP:20260425T174003
CREATED:20231223T230629Z
LAST-MODIFIED:20231223T230732Z
UID:447-1711807200-1711832400@phoenixmagic.club
SUMMARY:Carnival of Illusion Close-Up with John Shryock
DESCRIPTION:Three shows: 2PM\, 5PM and 7:30PM \n 
URL:https://phoenixmagic.club/event/carnival-of-illusion-close-up-with-john-shryock-2/
LOCATION:Renaissance Hotel\, Phoenix\, AZ
CATEGORIES:Show
END:VEVENT
END:VCALENDAR