BEGIN:VCALENDAR
VERSION:2.0
PRODID:-//Phoenix Magic Club - ECPv6.15.20//NONSGML v1.0//EN
CALSCALE:GREGORIAN
METHOD:PUBLISH
X-ORIGINAL-URL:https://phoenixmagic.club
X-WR-CALDESC:Events for Phoenix Magic Club
REFRESH-INTERVAL;VALUE=DURATION:PT1H
X-Robots-Tag:noindex
X-PUBLISHED-TTL:PT1H
BEGIN:VTIMEZONE
TZID:America/Phoenix
BEGIN:STANDARD
TZOFFSETFROM:-0700
TZOFFSETTO:-0700
TZNAME:MST
DTSTART:20230101T000000
END:STANDARD
END:VTIMEZONE
BEGIN:VEVENT
DTSTART;TZID=America/Phoenix:20240427T170000
DTEND;TZID=America/Phoenix:20240427T190000
DTSTAMP:20260425T160920
CREATED:20240427T183815Z
LAST-MODIFIED:20240427T183815Z
UID:617-1714237200-1714244400@phoenixmagic.club
SUMMARY:“Wonders and Wandwork” Magic Night at Old School Grub Cafe
DESCRIPTION:Witness mind-bending table side magic at Old School Grub cafe! The show is FREE\, the food is not lol. \n 
URL:https://phoenixmagic.club/event/wonders-and-wandwork-magic-night-at-old-school-grub-cafe/
LOCATION:Old School Grub\, 6810 East Main Street\, Mesa\, AZ\, 85207\, United States
CATEGORIES:Show
END:VEVENT
END:VCALENDAR