BEGIN:VCALENDAR
VERSION:2.0
PRODID:-//Phoenix Magic Club - ECPv6.15.20//NONSGML v1.0//EN
CALSCALE:GREGORIAN
METHOD:PUBLISH
X-ORIGINAL-URL:https://phoenixmagic.club
X-WR-CALDESC:Events for Phoenix Magic Club
REFRESH-INTERVAL;VALUE=DURATION:PT1H
X-Robots-Tag:noindex
X-PUBLISHED-TTL:PT1H
BEGIN:VTIMEZONE
TZID:America/Phoenix
BEGIN:STANDARD
TZOFFSETFROM:-0700
TZOFFSETTO:-0700
TZNAME:MST
DTSTART:20230101T000000
END:STANDARD
END:VTIMEZONE
BEGIN:VEVENT
DTSTART;TZID=America/Phoenix:20240713T143000
DTEND;TZID=America/Phoenix:20240713T210000
DTSTAMP:20260421T044447
CREATED:20240427T182237Z
LAST-MODIFIED:20240427T182237Z
UID:607-1720881000-1720904400@phoenixmagic.club
SUMMARY:Banachek! Phoenix Parlour Experience
DESCRIPTION:Three shows: 2:30PM\, 5PM and 7:30PM \nMature audiences 8+ years: A “clean” show for adults and well-behaved children. \n 
URL:https://phoenixmagic.club/event/banachek-phoenix-parlour-experience/
LOCATION:Renaissance Hotel\, Phoenix\, AZ
CATEGORIES:Show
END:VEVENT
BEGIN:VEVENT
DTSTART;TZID=America/Phoenix:20240713T183000
DTEND;TZID=America/Phoenix:20240713T183000
DTSTAMP:20260421T044447
CREATED:20240622T165405Z
LAST-MODIFIED:20240622T165405Z
UID:713-1720895400-1720895400@phoenixmagic.club
SUMMARY:Close Up Magic by Tank
DESCRIPTION:A Magical adventure in the heart of Old Town Scottsdale.\nSaturdays Only in July\, 2024 @ Hyatt Place Old Town\nJourney begins at 6:30pm\, Show starts @ 7pm\n“A Tainted Mind” is a Family Friendly show\nThis show is THE ultimate Close up\, Intimate Magical Experience!\nI Believe Magic triggers wonder. Wonder triggers evolution. And Evolution is essential to the human condition. It is this chain of understanding that is at the heart of my magic.
URL:https://phoenixmagic.club/event/close-up-magic-by-tank-2/
LOCATION:Hyatt Place in Old Town\, 7300 E 3rd Ave\, Scottsdale\, AZ\, 85251\, United States
CATEGORIES:Show
ATTACH;FMTTYPE=image/jpeg:https://phoenixmagic.club/wp-content/uploads/2024/06/TanksMagic-e1719075053504.jpg
END:VEVENT
END:VCALENDAR