BEGIN:VCALENDAR
VERSION:2.0
PRODID:-//Phoenix Magic Club - ECPv6.15.20//NONSGML v1.0//EN
CALSCALE:GREGORIAN
METHOD:PUBLISH
X-ORIGINAL-URL:https://phoenixmagic.club
X-WR-CALDESC:Events for Phoenix Magic Club
REFRESH-INTERVAL;VALUE=DURATION:PT1H
X-Robots-Tag:noindex
X-PUBLISHED-TTL:PT1H
BEGIN:VTIMEZONE
TZID:America/Phoenix
BEGIN:STANDARD
TZOFFSETFROM:-0700
TZOFFSETTO:-0700
TZNAME:MST
DTSTART:20230101T000000
END:STANDARD
END:VTIMEZONE
BEGIN:VEVENT
DTSTART;TZID=America/Phoenix:20240803T163000
DTEND;TZID=America/Phoenix:20240803T213000
DTSTAMP:20260421T014833
CREATED:20240624T014134Z
LAST-MODIFIED:20240624T014134Z
UID:744-1722702600-1722720600@phoenixmagic.club
SUMMARY:Epic Magic
DESCRIPTION:An evening of magic and illusion featuring magician Eric Giliam. \nShows 4:30pm\, 7PM\, and 9:30PM
URL:https://phoenixmagic.club/event/epic-magic-2/
LOCATION:Andaz Scottsdale Resort and Spa\, 6114 N Scottsdale Rd\, Scottsdale\, AZ\, 85253\, United States
CATEGORIES:Show
ATTACH;FMTTYPE=image/png:https://phoenixmagic.club/wp-content/uploads/2024/06/GiliamEpicMagic.png
ORGANIZER;CN="Eric Giliam":MAILTO:eric@magiceric.com
END:VEVENT
END:VCALENDAR