BEGIN:VCALENDAR
VERSION:2.0
PRODID:-//Phoenix Magic Club - ECPv6.15.20//NONSGML v1.0//EN
CALSCALE:GREGORIAN
METHOD:PUBLISH
X-WR-CALNAME:Phoenix Magic Club
X-ORIGINAL-URL:https://phoenixmagic.club
X-WR-CALDESC:Events for Phoenix Magic Club
REFRESH-INTERVAL;VALUE=DURATION:PT1H
X-Robots-Tag:noindex
X-PUBLISHED-TTL:PT1H
BEGIN:VTIMEZONE
TZID:America/Phoenix
BEGIN:STANDARD
TZOFFSETFROM:-0700
TZOFFSETTO:-0700
TZNAME:MST
DTSTART:20230101T000000
END:STANDARD
END:VTIMEZONE
BEGIN:VEVENT
DTSTART;TZID=America/Phoenix:20240810T143000
DTEND;TZID=America/Phoenix:20240810T210000
DTSTAMP:20260421T031503
CREATED:20240427T182521Z
LAST-MODIFIED:20240801T174651Z
UID:611-1723300200-1723323600@phoenixmagic.club
SUMMARY:Matt Donnelly & Jessica Jane! Phoenix Parlour Experience
DESCRIPTION:Three shows: 2:30PM\, 5PM and 7:30PM \nMature audiences 8+ years: A “clean” show for adults and well-behaved children. \n 
URL:https://phoenixmagic.club/event/special-guest-phoenix-parlour-experience/
LOCATION:Renaissance Hotel\, Phoenix\, AZ
CATEGORIES:Show
ATTACH;FMTTYPE=image/jpeg:https://phoenixmagic.club/wp-content/uploads/2024/04/image.jpeg
END:VEVENT
END:VCALENDAR