BEGIN:VCALENDAR
VERSION:2.0
PRODID:-//Phoenix Magic Club - ECPv6.15.20//NONSGML v1.0//EN
CALSCALE:GREGORIAN
METHOD:PUBLISH
X-ORIGINAL-URL:https://phoenixmagic.club
X-WR-CALDESC:Events for Phoenix Magic Club
REFRESH-INTERVAL;VALUE=DURATION:PT1H
X-Robots-Tag:noindex
X-PUBLISHED-TTL:PT1H
BEGIN:VTIMEZONE
TZID:America/Phoenix
BEGIN:STANDARD
TZOFFSETFROM:-0700
TZOFFSETTO:-0700
TZNAME:MST
DTSTART:20230101T000000
END:STANDARD
END:VTIMEZONE
BEGIN:VEVENT
DTSTART;TZID=America/Phoenix:20240816T193000
DTEND;TZID=America/Phoenix:20240816T213000
DTSTAMP:20260421T031634
CREATED:20240616T005947Z
LAST-MODIFIED:20240616T010012Z
UID:700-1723836600-1723843800@phoenixmagic.club
SUMMARY:CARBONARO: LIES ON STAGE
DESCRIPTION:Best known as the star and executive producer of the hit series\, THE CARBONARO EFFECT on truTV\, Michael Carbonaro has also made frequent television appearances in shows such as Happily Divorced\, 30 Rock\, Grey’s Anatomy\, and CSI Miami. A performing magician since his youth\, Carbonaro went on to study experimental theater at New York University with aspirations of entertaining audiences through a variety of theatrical mediums\, including hidden-camera magic\, which he later showcased frequently on “The Tonight Show with Jay Leno.” \nIn 2016 Michael embarked on his first theater tour with the widely acclaimed show “Michael Carbonaro Live!” and launched is current live show “Carbonaro: Lies on Stage” in 2021. Playing to over 200 thrilled audiences across the country\, Michael continues to showcase his unmatched blend of humor and charisma along with inventive illusions which amaze audiences of all ages\, cementing himself as one of the most dynamic entertainers of his generation.
URL:https://phoenixmagic.club/event/carbonaro-lies-on-stage/
LOCATION:Mesa Arts Center\, 1 East Main St\, Mesa\, AZ\, 85201\, United States
CATEGORIES:Show
ATTACH;FMTTYPE=image/jpeg:https://phoenixmagic.club/wp-content/uploads/2024/06/IMG_1211.jpeg
END:VEVENT
END:VCALENDAR