BEGIN:VCALENDAR
VERSION:2.0
PRODID:-//Phoenix Magic Club - ECPv6.15.20//NONSGML v1.0//EN
CALSCALE:GREGORIAN
METHOD:PUBLISH
X-WR-CALNAME:Phoenix Magic Club
X-ORIGINAL-URL:https://phoenixmagic.club
X-WR-CALDESC:Events for Phoenix Magic Club
REFRESH-INTERVAL;VALUE=DURATION:PT1H
X-Robots-Tag:noindex
X-PUBLISHED-TTL:PT1H
BEGIN:VTIMEZONE
TZID:America/Phoenix
BEGIN:STANDARD
TZOFFSETFROM:-0700
TZOFFSETTO:-0700
TZNAME:MST
DTSTART:20230101T000000
END:STANDARD
END:VTIMEZONE
BEGIN:VEVENT
DTSTART;TZID=America/Phoenix:20240328T183000
DTEND;TZID=America/Phoenix:20240328T190000
DTSTAMP:20260425T204824
CREATED:20240312T000304Z
LAST-MODIFIED:20240312T000304Z
UID:590-1711650600-1711652400@phoenixmagic.club
SUMMARY:"A Tainted Mind" Close-Up Show
DESCRIPTION:This 30 minute magic show by Tank Hanna is THE ultimate in Close up\, Intimate Magical Experiences.
URL:https://phoenixmagic.club/event/a-tainted-mind-close-up-show-3/
LOCATION:Sip Coffee and Beer\, 3617 North Goldwater Boulevard\, Scottsdale\, AZ\, 85251\, United States
CATEGORIES:Show
END:VEVENT
BEGIN:VEVENT
DTSTART;TZID=America/Phoenix:20240330T140000
DTEND;TZID=America/Phoenix:20240330T210000
DTSTAMP:20260425T204824
CREATED:20231223T230629Z
LAST-MODIFIED:20231223T230732Z
UID:447-1711807200-1711832400@phoenixmagic.club
SUMMARY:Carnival of Illusion Close-Up with John Shryock
DESCRIPTION:Three shows: 2PM\, 5PM and 7:30PM \n 
URL:https://phoenixmagic.club/event/carnival-of-illusion-close-up-with-john-shryock-2/
LOCATION:Renaissance Hotel\, Phoenix\, AZ
CATEGORIES:Show
END:VEVENT
BEGIN:VEVENT
DTSTART;TZID=America/Phoenix:20240403T173000
DTEND;TZID=America/Phoenix:20240403T183000
DTSTAMP:20260425T204824
CREATED:20240323T041104Z
LAST-MODIFIED:20240323T041104Z
UID:593-1712165400-1712169000@phoenixmagic.club
SUMMARY:Magic in the Air - A Tableside Magic Show
DESCRIPTION:Are you ready to be amazed? Come to our Magic in the Air event at Spinato’s Pizzaria for an incredible tableside show by magicians Chris Rose and Gary Michael Hamm. Play Magic Bingo for a chance to win pizza for a month\, and participate in our raffle for Spinato’s goodies. Be prepared to be entertained!
URL:https://phoenixmagic.club/event/magic-in-the-air-a-tableside-magic-show/
LOCATION:Spinato’s Pizzeria\, 9210 East Via de Ventura\, Suite 100\, Scottsdale\, AZ\, 85258\, United States
CATEGORIES:Show
END:VEVENT
BEGIN:VEVENT
DTSTART;TZID=America/Phoenix:20240407T190000
DTEND;TZID=America/Phoenix:20240407T210000
DTSTAMP:20260425T204824
CREATED:20240101T222732Z
LAST-MODIFIED:20240101T222732Z
UID:472-1712516400-1712523600@phoenixmagic.club
SUMMARY:The Magic of Eric Eaton: Magic For Adults
DESCRIPTION:One show\, 7 PM\, Ages 18+
URL:https://phoenixmagic.club/event/the-magic-of-eric-eaton-magic-for-adults-4/
LOCATION:Desert Ridge Improv\, 21001 N. Tatum Blvd\, Phoenix\, AZ\, 85050\, United States
CATEGORIES:Show
END:VEVENT
BEGIN:VEVENT
DTSTART;TZID=America/Phoenix:20240410T173000
DTEND;TZID=America/Phoenix:20240410T183000
DTSTAMP:20260425T204824
CREATED:20240323T041613Z
LAST-MODIFIED:20240323T041613Z
UID:596-1712770200-1712773800@phoenixmagic.club
SUMMARY:Magic in the Air - A Tableside Magic Show
DESCRIPTION:Are you ready to be amazed? Come to our Magic in the Air event at Spinato’s Pizzaria for an incredible tableside show by magicians Chris Rose and Gary Michael Hamm. Play Magic Bingo for a chance to win pizza for a month\, and participate in our raffle for Spinato’s goodies. Be prepared to be entertained!
URL:https://phoenixmagic.club/event/magic-in-the-air-a-tableside-magic-show-2/
LOCATION:Spinato’s Pizzeria\, 9210 East Via de Ventura\, Suite 100\, Scottsdale\, AZ\, 85258\, United States
CATEGORIES:Show
END:VEVENT
BEGIN:VEVENT
DTSTART;TZID=America/Phoenix:20240420T143000
DTEND;TZID=America/Phoenix:20240420T210000
DTSTAMP:20260425T204824
CREATED:20240203T055306Z
LAST-MODIFIED:20240203T055306Z
UID:574-1713623400-1713646800@phoenixmagic.club
SUMMARY:Carnival of Illusion Close-Up with John Shryock
DESCRIPTION:Three shows: 2:30PM\, 5PM and 7:30PM \nMature audiences 8+ years: A “clean” show for adults and well-behaved children. \n 
URL:https://phoenixmagic.club/event/carnival-of-illusion-close-up-with-john-shryock-3/
LOCATION:Renaissance Hotel\, Phoenix\, AZ
CATEGORIES:Show
END:VEVENT
BEGIN:VEVENT
DTSTART;TZID=America/Phoenix:20240420T190000
DTEND;TZID=America/Phoenix:20240420T200000
DTSTAMP:20260425T204824
CREATED:20240404T060344Z
LAST-MODIFIED:20240404T060344Z
UID:599-1713639600-1713643200@phoenixmagic.club
SUMMARY:Magic Show by Tank - "A Tainted Mind"
DESCRIPTION:A Magical evening in the heart of Old Town Scottsdale. \nApril 20th\, 2024 @ 7pm \n“A Tainted Mind” is a Family Friendly show – not a ‘420’ event* \nThis show is THE ultimate in Close up\, Intimate Magical Experiences… \nMagic triggers wonder.  Wonder triggers evolution. And Evolution is essential to the human condition. It is this chain of understandingthat is at the heart of my magic shows.
URL:https://phoenixmagic.club/event/magic-show-by-tank-a-tainted-mind/
LOCATION:Hyatt Place in Old Town\, 7300 E 3rd Ave\, Scottsdale\, AZ\, 85251\, United States
CATEGORIES:Show
END:VEVENT
BEGIN:VEVENT
DTSTART;TZID=America/Phoenix:20240427T170000
DTEND;TZID=America/Phoenix:20240427T190000
DTSTAMP:20260425T204824
CREATED:20240427T183815Z
LAST-MODIFIED:20240427T183815Z
UID:617-1714237200-1714244400@phoenixmagic.club
SUMMARY:“Wonders and Wandwork” Magic Night at Old School Grub Cafe
DESCRIPTION:Witness mind-bending table side magic at Old School Grub cafe! The show is FREE\, the food is not lol. \n 
URL:https://phoenixmagic.club/event/wonders-and-wandwork-magic-night-at-old-school-grub-cafe/
LOCATION:Old School Grub\, 6810 East Main Street\, Mesa\, AZ\, 85207\, United States
CATEGORIES:Show
END:VEVENT
BEGIN:VEVENT
DTSTART;TZID=America/Phoenix:20240608T143000
DTEND;TZID=America/Phoenix:20240608T210000
DTSTAMP:20260425T204824
CREATED:20240427T181954Z
LAST-MODIFIED:20240427T181954Z
UID:603-1717857000-1717880400@phoenixmagic.club
SUMMARY:Dana Daniels! Phoenix Parlour Experience
DESCRIPTION:Three shows: 2:30PM\, 5PM and 7:30PM \nMature audiences 8+ years: A “clean” show for adults and well-behaved children. \n 
URL:https://phoenixmagic.club/event/dana-daniels-parlour-experience/
LOCATION:Renaissance Hotel\, Phoenix\, AZ
CATEGORIES:Show
END:VEVENT
BEGIN:VEVENT
DTSTART;TZID=America/Phoenix:20240614T190000
DTEND;TZID=America/Phoenix:20240614T200000
DTSTAMP:20260425T204824
CREATED:20240511T234145Z
LAST-MODIFIED:20240511T234145Z
UID:672-1718391600-1718395200@phoenixmagic.club
SUMMARY:An Evening of Wonder
DESCRIPTION:An Evening of Wonder featuring the Magic of Sebastian \n 
URL:https://phoenixmagic.club/event/an-evening-of-wonder/
LOCATION:Combs Performing Arts Center\, 2505 E Germann Rd\, San Tan Valley\, AZ\, 85140\, United States
CATEGORIES:Show
ATTACH;FMTTYPE=image/jpeg:https://phoenixmagic.club/wp-content/uploads/2024/05/image.jpeg
END:VEVENT
BEGIN:VEVENT
DTSTART;TZID=America/Phoenix:20240615T143000
DTEND;TZID=America/Phoenix:20240615T210000
DTSTAMP:20260425T204824
CREATED:20240427T182137Z
LAST-MODIFIED:20240427T182137Z
UID:605-1718461800-1718485200@phoenixmagic.club
SUMMARY:Mat O'Neill & Mark Gibson! Phoenix Parlour Experience
DESCRIPTION:Three shows: 2:30PM\, 5PM and 7:30PM \nMature audiences 8+ years: A “clean” show for adults and well-behaved children. \n 
URL:https://phoenixmagic.club/event/oneill-gibson-phoenix-parlour-experience/
LOCATION:Renaissance Hotel\, Phoenix\, AZ
CATEGORIES:Show
END:VEVENT
BEGIN:VEVENT
DTSTART;TZID=America/Phoenix:20240615T160000
DTEND;TZID=America/Phoenix:20240615T171500
DTSTAMP:20260425T204824
CREATED:20240512T001934Z
LAST-MODIFIED:20240512T001934Z
UID:676-1718467200-1718471700@phoenixmagic.club
SUMMARY:All Ages Comedy Magic Show
DESCRIPTION:Prepare for an unforgettable afternoon of laughter and astonishment with John Fitzsimmons\, The Comedy Trickster! This all-ages show on June 15th at 4:00 PM is the perfect pre-Father’s Day treat for the whole family.\nWith over two decades of experience as a seasoned magician and a 3-time Guinness World Records holder\, John Fitzsimmons has graced stages across the nation and appeared on popular TV shows like “America’s Got Talent\,” “The Gong Show\,” “I Can See Your Voice\,” and “Penn & Teller: Fool Us.” Audiences can rest assured of his expertise and professionalism\, ensuring a magical adventure they’ll cherish forever.\nDon’t miss this chance to create lasting memories with your family and friends. Secure your tickets now and get ready for a magical experience like no other at Stir Crazy Comedy Club.\nGet your tickets before they disappear!
URL:https://phoenixmagic.club/event/all-ages-comedy-magic-show/
LOCATION:Stir Crazy Comedy Club\, 6751 N Sunset Blvd Ste E-206\, Glendale\, AZ\, United States
CATEGORIES:Show
ATTACH;FMTTYPE=image/jpeg:https://phoenixmagic.club/wp-content/uploads/2024/05/image-1.jpeg
END:VEVENT
BEGIN:VEVENT
DTSTART;TZID=America/Phoenix:20240706T183000
DTEND;TZID=America/Phoenix:20240706T183000
DTSTAMP:20260425T204824
CREATED:20240622T165129Z
LAST-MODIFIED:20240622T165208Z
UID:710-1720290600-1720290600@phoenixmagic.club
SUMMARY:Close Up Magic by Tank
DESCRIPTION:A Magical adventure in the heart of Old Town Scottsdale.\nSaturdays Only in July\, 2024 @ Hyatt Place Old Town\nJourney begins at 6:30pm\, Show starts @ 7pm\n“A Tainted Mind” is a Family Friendly show\nThis show is THE ultimate Close up\, Intimate Magical Experience!\nI Believe Magic triggers wonder. Wonder triggers evolution. And Evolution is essential to the human condition. It is this chain of understanding that is at the heart of my magic.
URL:https://phoenixmagic.club/event/close-up-magic-by-tank/
LOCATION:Hyatt Place in Old Town\, 7300 E 3rd Ave\, Scottsdale\, AZ\, 85251\, United States
CATEGORIES:Show
ATTACH;FMTTYPE=image/jpeg:https://phoenixmagic.club/wp-content/uploads/2024/06/TanksMagic-e1719075053504.jpg
END:VEVENT
BEGIN:VEVENT
DTSTART;TZID=America/Phoenix:20240707T190000
DTEND;TZID=America/Phoenix:20240707T190000
DTSTAMP:20260425T204824
CREATED:20240624T011734Z
LAST-MODIFIED:20240624T012721Z
UID:722-1720378800-1720378800@phoenixmagic.club
SUMMARY:The Magic of Eric Eaton: Magic For Adults
DESCRIPTION:One show\, 7 PM\, Ages 18+
URL:https://phoenixmagic.club/event/the-magic-of-eric-eaton-magic-for-adults-5/
LOCATION:Desert Ridge Improv\, 21001 N. Tatum Blvd\, Phoenix\, AZ\, 85050\, United States
CATEGORIES:Show
ATTACH;FMTTYPE=image/png:https://phoenixmagic.club/wp-content/uploads/2024/06/EatonMagicForAdults.png
END:VEVENT
BEGIN:VEVENT
DTSTART;TZID=America/Phoenix:20240713T143000
DTEND;TZID=America/Phoenix:20240713T210000
DTSTAMP:20260425T204824
CREATED:20240427T182237Z
LAST-MODIFIED:20240427T182237Z
UID:607-1720881000-1720904400@phoenixmagic.club
SUMMARY:Banachek! Phoenix Parlour Experience
DESCRIPTION:Three shows: 2:30PM\, 5PM and 7:30PM \nMature audiences 8+ years: A “clean” show for adults and well-behaved children. \n 
URL:https://phoenixmagic.club/event/banachek-phoenix-parlour-experience/
LOCATION:Renaissance Hotel\, Phoenix\, AZ
CATEGORIES:Show
END:VEVENT
BEGIN:VEVENT
DTSTART;TZID=America/Phoenix:20240713T183000
DTEND;TZID=America/Phoenix:20240713T183000
DTSTAMP:20260425T204824
CREATED:20240622T165405Z
LAST-MODIFIED:20240622T165405Z
UID:713-1720895400-1720895400@phoenixmagic.club
SUMMARY:Close Up Magic by Tank
DESCRIPTION:A Magical adventure in the heart of Old Town Scottsdale.\nSaturdays Only in July\, 2024 @ Hyatt Place Old Town\nJourney begins at 6:30pm\, Show starts @ 7pm\n“A Tainted Mind” is a Family Friendly show\nThis show is THE ultimate Close up\, Intimate Magical Experience!\nI Believe Magic triggers wonder. Wonder triggers evolution. And Evolution is essential to the human condition. It is this chain of understanding that is at the heart of my magic.
URL:https://phoenixmagic.club/event/close-up-magic-by-tank-2/
LOCATION:Hyatt Place in Old Town\, 7300 E 3rd Ave\, Scottsdale\, AZ\, 85251\, United States
CATEGORIES:Show
ATTACH;FMTTYPE=image/jpeg:https://phoenixmagic.club/wp-content/uploads/2024/06/TanksMagic-e1719075053504.jpg
END:VEVENT
BEGIN:VEVENT
DTSTART;TZID=America/Phoenix:20240720T183000
DTEND;TZID=America/Phoenix:20240720T183000
DTSTAMP:20260425T204824
CREATED:20240622T165447Z
LAST-MODIFIED:20240622T165447Z
UID:715-1721500200-1721500200@phoenixmagic.club
SUMMARY:Close Up Magic by Tank
DESCRIPTION:A Magical adventure in the heart of Old Town Scottsdale.\nSaturdays Only in July\, 2024 @ Hyatt Place Old Town\nJourney begins at 6:30pm\, Show starts @ 7pm\n“A Tainted Mind” is a Family Friendly show\nThis show is THE ultimate Close up\, Intimate Magical Experience!\nI Believe Magic triggers wonder. Wonder triggers evolution. And Evolution is essential to the human condition. It is this chain of understanding that is at the heart of my magic.
URL:https://phoenixmagic.club/event/close-up-magic-by-tank-3/
LOCATION:Hyatt Place in Old Town\, 7300 E 3rd Ave\, Scottsdale\, AZ\, 85251\, United States
CATEGORIES:Show
ATTACH;FMTTYPE=image/jpeg:https://phoenixmagic.club/wp-content/uploads/2024/06/TanksMagic-e1719075053504.jpg
END:VEVENT
BEGIN:VEVENT
DTSTART;TZID=America/Phoenix:20240727T143000
DTEND;TZID=America/Phoenix:20240727T210000
DTSTAMP:20260425T204824
CREATED:20240427T182412Z
LAST-MODIFIED:20240427T182412Z
UID:609-1722090600-1722114000@phoenixmagic.club
SUMMARY:Oscar Muñoz & Master Payne! Phoenix Parlour Experience
DESCRIPTION:Three shows: 2:30PM\, 5PM and 7:30PM \nMature audiences 8+ years: A “clean” show for adults and well-behaved children. \n 
URL:https://phoenixmagic.club/event/munoz-payne-phoenix-parlour-experience/
LOCATION:Renaissance Hotel\, Phoenix\, AZ
CATEGORIES:Show
END:VEVENT
BEGIN:VEVENT
DTSTART;TZID=America/Phoenix:20240727T183000
DTEND;TZID=America/Phoenix:20240727T183000
DTSTAMP:20260425T204824
CREATED:20240622T165538Z
LAST-MODIFIED:20240622T165538Z
UID:717-1722105000-1722105000@phoenixmagic.club
SUMMARY:Close Up Magic by Tank
DESCRIPTION:A Magical adventure in the heart of Old Town Scottsdale.\nSaturdays Only in July\, 2024 @ Hyatt Place Old Town\nJourney begins at 6:30pm\, Show starts @ 7pm\n“A Tainted Mind” is a Family Friendly show\nThis show is THE ultimate Close up\, Intimate Magical Experience!\nI Believe Magic triggers wonder. Wonder triggers evolution. And Evolution is essential to the human condition. It is this chain of understanding that is at the heart of my magic.
URL:https://phoenixmagic.club/event/close-up-magic-by-tank-4/
LOCATION:Hyatt Place in Old Town\, 7300 E 3rd Ave\, Scottsdale\, AZ\, 85251\, United States
CATEGORIES:Show
ATTACH;FMTTYPE=image/jpeg:https://phoenixmagic.club/wp-content/uploads/2024/06/TanksMagic-e1719075053504.jpg
END:VEVENT
BEGIN:VEVENT
DTSTART;TZID=America/Phoenix:20240802T190000
DTEND;TZID=America/Phoenix:20240802T213000
DTSTAMP:20260425T204824
CREATED:20240624T014031Z
LAST-MODIFIED:20240624T014031Z
UID:736-1722625200-1722634200@phoenixmagic.club
SUMMARY:Epic Magic
DESCRIPTION:An evening of magic and illusion featuring magician Eric Giliam. \nShows 7PM and 9:30PM
URL:https://phoenixmagic.club/event/epic-magic/
LOCATION:Andaz Scottsdale Resort and Spa\, 6114 N Scottsdale Rd\, Scottsdale\, AZ\, 85253\, United States
CATEGORIES:Show
ATTACH;FMTTYPE=image/png:https://phoenixmagic.club/wp-content/uploads/2024/06/GiliamEpicMagic.png
ORGANIZER;CN="Eric Giliam":MAILTO:eric@magiceric.com
END:VEVENT
BEGIN:VEVENT
DTSTART;TZID=America/Phoenix:20240803T163000
DTEND;TZID=America/Phoenix:20240803T213000
DTSTAMP:20260425T204824
CREATED:20240624T014134Z
LAST-MODIFIED:20240624T014134Z
UID:744-1722702600-1722720600@phoenixmagic.club
SUMMARY:Epic Magic
DESCRIPTION:An evening of magic and illusion featuring magician Eric Giliam. \nShows 4:30pm\, 7PM\, and 9:30PM
URL:https://phoenixmagic.club/event/epic-magic-2/
LOCATION:Andaz Scottsdale Resort and Spa\, 6114 N Scottsdale Rd\, Scottsdale\, AZ\, 85253\, United States
CATEGORIES:Show
ATTACH;FMTTYPE=image/png:https://phoenixmagic.club/wp-content/uploads/2024/06/GiliamEpicMagic.png
ORGANIZER;CN="Eric Giliam":MAILTO:eric@magiceric.com
END:VEVENT
BEGIN:VEVENT
DTSTART;TZID=America/Phoenix:20240810T143000
DTEND;TZID=America/Phoenix:20240810T210000
DTSTAMP:20260425T204824
CREATED:20240427T182521Z
LAST-MODIFIED:20240801T174651Z
UID:611-1723300200-1723323600@phoenixmagic.club
SUMMARY:Matt Donnelly & Jessica Jane! Phoenix Parlour Experience
DESCRIPTION:Three shows: 2:30PM\, 5PM and 7:30PM \nMature audiences 8+ years: A “clean” show for adults and well-behaved children. \n 
URL:https://phoenixmagic.club/event/special-guest-phoenix-parlour-experience/
LOCATION:Renaissance Hotel\, Phoenix\, AZ
CATEGORIES:Show
ATTACH;FMTTYPE=image/jpeg:https://phoenixmagic.club/wp-content/uploads/2024/04/image.jpeg
END:VEVENT
BEGIN:VEVENT
DTSTART;TZID=America/Phoenix:20240816T193000
DTEND;TZID=America/Phoenix:20240816T213000
DTSTAMP:20260425T204824
CREATED:20240616T005947Z
LAST-MODIFIED:20240616T010012Z
UID:700-1723836600-1723843800@phoenixmagic.club
SUMMARY:CARBONARO: LIES ON STAGE
DESCRIPTION:Best known as the star and executive producer of the hit series\, THE CARBONARO EFFECT on truTV\, Michael Carbonaro has also made frequent television appearances in shows such as Happily Divorced\, 30 Rock\, Grey’s Anatomy\, and CSI Miami. A performing magician since his youth\, Carbonaro went on to study experimental theater at New York University with aspirations of entertaining audiences through a variety of theatrical mediums\, including hidden-camera magic\, which he later showcased frequently on “The Tonight Show with Jay Leno.” \nIn 2016 Michael embarked on his first theater tour with the widely acclaimed show “Michael Carbonaro Live!” and launched is current live show “Carbonaro: Lies on Stage” in 2021. Playing to over 200 thrilled audiences across the country\, Michael continues to showcase his unmatched blend of humor and charisma along with inventive illusions which amaze audiences of all ages\, cementing himself as one of the most dynamic entertainers of his generation.
URL:https://phoenixmagic.club/event/carbonaro-lies-on-stage/
LOCATION:Mesa Arts Center\, 1 East Main St\, Mesa\, AZ\, 85201\, United States
CATEGORIES:Show
ATTACH;FMTTYPE=image/jpeg:https://phoenixmagic.club/wp-content/uploads/2024/06/IMG_1211.jpeg
END:VEVENT
BEGIN:VEVENT
DTSTART;TZID=America/Phoenix:20240831T143000
DTEND;TZID=America/Phoenix:20240831T210000
DTSTAMP:20260425T204824
CREATED:20240427T182801Z
LAST-MODIFIED:20240616T010749Z
UID:613-1725114600-1725138000@phoenixmagic.club
SUMMARY:Vinny Grosso! Phoenix Parlour Experience
DESCRIPTION:Three shows: 2:30PM\, 5PM and 7:30PM \nMature audiences 8+ years: A “clean” show for adults and well-behaved children. \n 
URL:https://phoenixmagic.club/event/vinny-grosso-guest-phoenix-parlour-experience/
LOCATION:Renaissance Hotel\, Phoenix\, AZ
CATEGORIES:Show
ATTACH;FMTTYPE=image/jpeg:https://phoenixmagic.club/wp-content/uploads/2024/04/IMG_1212.jpeg
END:VEVENT
BEGIN:VEVENT
DTSTART;TZID=America/Phoenix:20240915T190000
DTEND;TZID=America/Phoenix:20240915T190000
DTSTAMP:20260425T204824
CREATED:20240624T012816Z
LAST-MODIFIED:20240624T012816Z
UID:728-1726426800-1726426800@phoenixmagic.club
SUMMARY:The Magic of Eric Eaton: Magic For Adults
DESCRIPTION:One show\, 7 PM\, Ages 18+
URL:https://phoenixmagic.club/event/the-magic-of-eric-eaton-magic-for-adults-7/
LOCATION:Desert Ridge Improv\, 21001 N. Tatum Blvd\, Phoenix\, AZ\, 85050\, United States
CATEGORIES:Show
ATTACH;FMTTYPE=image/png:https://phoenixmagic.club/wp-content/uploads/2024/06/EatonMagicForAdults.png
END:VEVENT
BEGIN:VEVENT
DTSTART;TZID=America/Phoenix:20240921T143000
DTEND;TZID=America/Phoenix:20240921T143000
DTSTAMP:20260425T204824
CREATED:20240830T061420Z
LAST-MODIFIED:20240830T061420Z
UID:790-1726929000-1726929000@phoenixmagic.club
SUMMARY:Taylor Hughes & Blake Vogt! Phoenix Parlor Experience
DESCRIPTION:Taylor Hughes charms and inspires audiences with the genuine sweetness of your favorite person ever. He’s a gifted storyteller who brings his tales to life with wonder-filled magic surprises. Plus\, he’s a best-selling author and has popular Magic Comedy specials streaming on Prime. Joining him is magic pro Blake Vogt\, a top magic consultant for the biggest names in the business\, with killer magic skills of his own. Oh\, and if you’ve ever wondered who taught Marvel’s Ant-Man his sleight of hand—Blake’s the guy! Grab your tickets and be amazed by this dynamic duo! \nThree Shows: 2:30pm\, 5:00pm\, 7:30pm
URL:https://phoenixmagic.club/event/taylor-hughes-blake-vogt-phoenix-parlor-experience/
LOCATION:Renaissance Hotel\, Phoenix\, AZ
CATEGORIES:Show
ATTACH;FMTTYPE=image/jpeg:https://phoenixmagic.club/wp-content/uploads/2024/08/image-2.jpeg
END:VEVENT
BEGIN:VEVENT
DTSTART;TZID=America/Phoenix:20241006T190000
DTEND;TZID=America/Phoenix:20241006T190000
DTSTAMP:20260425T204824
CREATED:20240624T012850Z
LAST-MODIFIED:20240624T012850Z
UID:730-1728241200-1728241200@phoenixmagic.club
SUMMARY:The Magic of Eric Eaton: Magic For Adults
DESCRIPTION:One show\, 7 PM\, Ages 18+
URL:https://phoenixmagic.club/event/the-magic-of-eric-eaton-magic-for-adults-8/
LOCATION:Desert Ridge Improv\, 21001 N. Tatum Blvd\, Phoenix\, AZ\, 85050\, United States
CATEGORIES:Show
ATTACH;FMTTYPE=image/png:https://phoenixmagic.club/wp-content/uploads/2024/06/EatonMagicForAdults.png
END:VEVENT
BEGIN:VEVENT
DTSTART;TZID=America/Phoenix:20241010T190000
DTEND;TZID=America/Phoenix:20241010T190000
DTSTAMP:20260425T204824
CREATED:20240921T060044Z
LAST-MODIFIED:20240921T060428Z
UID:811-1728586800-1728586800@phoenixmagic.club
SUMMARY:Jeff Peterson at JP's Comedy Club
DESCRIPTION:A long-standing member of the world-famous Magic Castle in Hollywood\, and an award-winning inventor\, Jeff was named “Comedy Magician of the Year” by his peers. Because of his reputation as an inventor\, Jeff was contracted by MCA Records to design\, build and perform an illusion on national television which involved making the ruby slippers from “The Wizard of OZ” disappear! Jeff has performed as a headliner in over 4\,000 shows. He even had the honor of having a multi-million-dollar production show built around his magic on the world’s largest cruise ship at the time.
URL:https://phoenixmagic.club/event/jeff-peterson-at-jps-comedy-club/
LOCATION:JP’s Comedy Club\, 860 E Warner Rd\, Gilbert\, AZ\, 85296\, United States
CATEGORIES:Show
ATTACH;FMTTYPE=image/jpeg:https://phoenixmagic.club/wp-content/uploads/2024/09/image.jpeg
END:VEVENT
BEGIN:VEVENT
DTSTART;TZID=America/Phoenix:20241012T143000
DTEND;TZID=America/Phoenix:20241012T143000
DTSTAMP:20260425T204824
CREATED:20240830T061813Z
LAST-MODIFIED:20240830T061813Z
UID:793-1728743400-1728743400@phoenixmagic.club
SUMMARY:Michael Ammar & Luis Carreón! Phoenix Parlour Experience
DESCRIPTION:Michael Ammar\, award-winning performer\, best-selling author\, and one of the most influential magicians of the 20th Century\, has wowed audiences on shows like Carson\, Letterman\, and World’s Greatest Magic. He’s teamed up with the Wild Card of Magic\, Luis Carreón—also known as “La Bestia” in the wrestling world. Luis has been featured on Univision and was a finalist on Tengo Talento. Don’t miss this one-night-only event with Magic’s beloved veteran and the Lucha Libre hotshot! \nThree Shows: 2:30pm\, 5:00pm\, 7:30pm
URL:https://phoenixmagic.club/event/michael-ammar-luis-carreon-phoenix-parlour-experience/
LOCATION:Renaissance Hotel\, Phoenix\, AZ
CATEGORIES:Show
ATTACH;FMTTYPE=image/jpeg:https://phoenixmagic.club/wp-content/uploads/2024/08/image-3.jpeg
END:VEVENT
BEGIN:VEVENT
DTSTART;TZID=America/Phoenix:20241110T190000
DTEND;TZID=America/Phoenix:20241110T190000
DTSTAMP:20260425T204824
CREATED:20240624T012935Z
LAST-MODIFIED:20240624T012935Z
UID:732-1731265200-1731265200@phoenixmagic.club
SUMMARY:The Magic of Eric Eaton: Magic For Adults
DESCRIPTION:One show\, 7 PM\, Ages 18+
URL:https://phoenixmagic.club/event/the-magic-of-eric-eaton-magic-for-adults-9/
LOCATION:Desert Ridge Improv\, 21001 N. Tatum Blvd\, Phoenix\, AZ\, 85050\, United States
CATEGORIES:Show
ATTACH;FMTTYPE=image/png:https://phoenixmagic.club/wp-content/uploads/2024/06/EatonMagicForAdults.png
END:VEVENT
END:VCALENDAR