BEGIN:VCALENDAR
VERSION:2.0
PRODID:-//Phoenix Magic Club - ECPv6.15.20//NONSGML v1.0//EN
CALSCALE:GREGORIAN
METHOD:PUBLISH
X-WR-CALNAME:Phoenix Magic Club
X-ORIGINAL-URL:https://phoenixmagic.club
X-WR-CALDESC:Events for Phoenix Magic Club
REFRESH-INTERVAL;VALUE=DURATION:PT1H
X-Robots-Tag:noindex
X-PUBLISHED-TTL:PT1H
BEGIN:VTIMEZONE
TZID:America/Phoenix
BEGIN:STANDARD
TZOFFSETFROM:-0700
TZOFFSETTO:-0700
TZNAME:MST
DTSTART:20240101T000000
END:STANDARD
END:VTIMEZONE
BEGIN:VEVENT
DTSTART;TZID=America/Phoenix:20251010T170000
DTEND;TZID=America/Phoenix:20251011T210000
DTSTAMP:20260419T214034
CREATED:20250509T210329Z
LAST-MODIFIED:20250901T183847Z
UID:1018-1760115600-1760216400@phoenixmagic.club
SUMMARY:Drew Murray's Rare Magic
DESCRIPTION:Seating is limited with only 70 guests per performance — multiple shows per weekend. \n\n\n\nRare Magic is an intimate and theatrical magic experience inside The Camby Hotel. The show combines illusion\, storytelling and moments of wonder for every guest. 
URL:https://phoenixmagic.club/event/drew-murrays-rare-magic-2/
LOCATION:Camby Hotel\, 2401 E Camelback Rd\, Phoenix\, AZ\, 85016\, United States
CATEGORIES:Show
ATTACH;FMTTYPE=image/jpeg:https://phoenixmagic.club/wp-content/uploads/2025/05/DrewMurray-phx-fire-crowd.jpg
END:VEVENT
BEGIN:VEVENT
DTSTART;TZID=America/Phoenix:20251011T143000
DTEND;TZID=America/Phoenix:20251011T143000
DTSTAMP:20260419T214034
CREATED:20250831T171344Z
LAST-MODIFIED:20250831T171346Z
UID:1094-1760193000-1760193000@phoenixmagic.club
SUMMARY:The UP-CLOSE Magic Experience!
DESCRIPTION:Three shows: 2:30pm\, 5:00pm\, 7:30pm \n\n\n\nLAUGH\, HAVE FUN\, BE AMAZED with the BEST Magicians from America’s Got Talent\, Penn & Teller’s Fool Us\, the Vegas Strip\, Broadway and MORE!!!
URL:https://phoenixmagic.club/event/the-up-close-magic-experience/
LOCATION:Renaissance Hotel\, Phoenix\, AZ
CATEGORIES:Show
END:VEVENT
BEGIN:VEVENT
DTSTART;TZID=America/Phoenix:20251018T180000
DTEND;TZID=America/Phoenix:20251018T180000
DTSTAMP:20260419T214034
CREATED:20250831T171829Z
LAST-MODIFIED:20250831T171832Z
UID:1096-1760810400-1760810400@phoenixmagic.club
SUMMARY:David Feather's Charity Magic Show
DESCRIPTION:Come and witness an enchanting evening filled with mind-blowing illusions and mesmerizing tricks at the Charity Magic Show! It’s all happening at the VFW Post 3513 in Scottsdale\, so mark your calendars and get ready for a night of wonder and excitement. Bring your friends and family along for a magical experience you won’t forget!
URL:https://phoenixmagic.club/event/david-feathers-charity-magic-show/
LOCATION:VFW Post 3513\, 7220 E Wilshire Dr\, Scottsdale\, Arizona\, 85257
CATEGORIES:Show
ATTACH;FMTTYPE=image/jpeg:https://phoenixmagic.club/wp-content/uploads/2025/08/image-1.jpeg
END:VEVENT
BEGIN:VEVENT
DTSTART;TZID=America/Phoenix:20251109T180000
DTEND;TZID=America/Phoenix:20251109T180000
DTSTAMP:20260419T214034
CREATED:20250901T183150Z
LAST-MODIFIED:20250901T183441Z
UID:1123-1762711200-1762711200@phoenixmagic.club
SUMMARY:Magic for Adults
DESCRIPTION:Straight from the Hit TV Show MASTERS OF ILLUSION that has garnered over 100 million views in 126 countries\, and 2X MERLIN AWARD WINNER for COMEDY MAGICIAN OF THE YEAR\, Eric is bringing his Sold Out touring show\, Magic for Adults\, to the Desert Ridge Improv for an Adults-Only Comedy Magic Show! Eric’s show consists of quick wit COMEDY and mind blowing MAGIC to make a show not like anything you’ve ever seen before! If you need a night out of laughter and amazement this is the show for you Phoenix!
URL:https://phoenixmagic.club/event/magic-for-adults/
LOCATION:Desert Ridge Improv\, 21001 N. Tatum Blvd\, Phoenix\, AZ\, 85050\, United States
CATEGORIES:Show
ATTACH;FMTTYPE=image/png:https://phoenixmagic.club/wp-content/uploads/2024/06/EatonMagicForAdults.png
END:VEVENT
BEGIN:VEVENT
DTSTART;TZID=America/Phoenix:20260124T000000
DTEND;TZID=America/Phoenix:20260124T235959
DTSTAMP:20260419T214034
CREATED:20240830T060814Z
LAST-MODIFIED:20250330T191928Z
UID:785-1769212800-1769299199@phoenixmagic.club
SUMMARY:Joshua Kane Borders of the Mind
DESCRIPTION:Can he read your mind? Discover your inner superhero in Mentalist Joshua Kane’s amazing interactive performance. Entire audiences experience simultaneous telepathy\, and witness dazzling feats of lie detection and what must be psychic phenomena. People of all ages leap to participate in the strange happenings at the Borders of the Mind. In 2022 the Psychic Entertainers Association awarded Joshua the Dunninger Memorial Award\, their highest honor\, “Awarded for Distinguished Professionalism in the Performance of Mentalism.” \nTwo shows: 3:00pm and 7:30pm
URL:https://phoenixmagic.club/event/joshua-kane-borders-of-the-mind-3/
LOCATION:Mesa Arts Center\, 1 East Main St\, Mesa\, AZ\, 85201\, United States
CATEGORIES:Show
ATTACH;FMTTYPE=image/jpeg:https://phoenixmagic.club/wp-content/uploads/2024/08/image-1.jpeg
END:VEVENT
BEGIN:VEVENT
DTSTART;TZID=America/Phoenix:20260125T180000
DTEND;TZID=America/Phoenix:20260125T180000
DTSTAMP:20260419T214034
CREATED:20260103T203744Z
LAST-MODIFIED:20260103T203747Z
UID:1161-1769364000-1769364000@phoenixmagic.club
SUMMARY:The Magic of Eric Eaton: Magic For Adults
DESCRIPTION:One show\, 6 PM\, Ages 18+ \nEric has performed all over the United States and can be seen on the hit TV Show Masters of Illusion. Eric has won a Merlin Award (Oscar’s of Magic) for Outstanding Comedy and Magic. Eric has had the opportunity amaze celebrities such as; George Lopez\, Lou Ferrigno\, Russell Peters\, Desiigner\, and many more in which you can find on his social media platforms; @themagicofericeaton. Eric puts on a great show that earns him high praise with his unique blend of magic\, charm and comedic wit. People referred to his amazing comedic tendencies and his ability with magic to being the perfect combination for a compelling and entertaining show. All of Eric’s tricks include audience members. From the show’s start to the incredible finish\, audience members find themselves on stage trading barbs with Eric and having the time of their lives! The interchange is classic entertainment at its best. Be prepared to sit back and laugh at the hilarious and incredible Comedy and Magic of Eric Eaton!
URL:https://phoenixmagic.club/event/the-magic-of-eric-eaton-magic-for-adults-11/
LOCATION:Stand Up Live Phoenix\, 50 W. Jefferson St\, Phoenix\, AZ\, 85003\, United States
CATEGORIES:Show
ATTACH;FMTTYPE=image/png:https://phoenixmagic.club/wp-content/uploads/2024/06/EatonMagicForAdults.png
END:VEVENT
BEGIN:VEVENT
DTSTART;TZID=America/Phoenix:20260128T193000
DTEND;TZID=America/Phoenix:20260128T193000
DTSTAMP:20260419T214034
CREATED:20260117T184525Z
LAST-MODIFIED:20260117T184532Z
UID:1170-1769628600-1769628600@phoenixmagic.club
SUMMARY:Taylor Hughes: Feel Good Magic Tour
DESCRIPTION:18+\, Doors open at 6:30 pm. \n\n\n\n\n\n\n\nTaylor Hughes: The Feel Good Magic Tour \n\n\n\nFresh off the release of his second special ENJOY THE RIDE Taylor Hughes brings his signature style of hilarious storytelling and mind-blowing magic with an all-new show for the FEEL GOOD MAGIC TOUR.
URL:https://phoenixmagic.club/event/taylor-hughes-feel-good-magic-tour/
LOCATION:Mic Drop Mania\, 51 E. Boston St.\, Chandler\, Arizona\, 85225\, United States
CATEGORIES:Show
END:VEVENT
BEGIN:VEVENT
DTSTART;TZID=America/Phoenix:20260404T160000
DTEND;TZID=America/Phoenix:20260404T160000
DTSTAMP:20260419T214034
CREATED:20260103T205138Z
LAST-MODIFIED:20260103T210457Z
UID:1163-1775318400-1775318400@phoenixmagic.club
SUMMARY:The Magic of Cassandra & Ben Nemzer
DESCRIPTION:Come witness the impossible with master magicians Cassandra and Ben Nemzer! As seen onNetflix\, Apple +\, Fox Sports\, & Comedy Central and the most recent season of Let’s Make a Deal on CBS; These two magicians present a nonstop journey of wonder\, excitement and laughter. Through jaw-dropping magic\, and even CRAZY card tricks; This duo creates once in a lifetime moments after another! \n\n\n\nCassandra & Ben met in 2010 and their entire magical love story was profiled with a full color page in the New York Times! Onstage they share anecdotes from their home life\, photos of their dog\, and their magical travels. Together\, among many corporate and private clients\, the two of them have been seen performing across the globe. They are crowd favorites on nearly every major Cruise Line\, and esteemed venues for magicians like: The Chicago Magic Lounge\, The Magic Castle\, and countless theaters\, theme parks\, and 55+ communities. Cassandra is a classically trained singer and combines her magic with opera in a way that has never been seen before. Ben’s Comedy Magic and sleight of hand is some of the best in the world! Together\, they present a show you can’t take your eyes off of:  \n\n\n\n“The Magic of Cassandra & Ben Nemzer!”
URL:https://phoenixmagic.club/event/the-magic-of-cassandra-ben-nemzer/
LOCATION:Combs Performing Arts Center\, 2505 E Germann Rd\, San Tan Valley\, AZ\, 85140\, United States
CATEGORIES:Show
ATTACH;FMTTYPE=image/jpeg:https://phoenixmagic.club/wp-content/uploads/2026/01/image.jpeg
END:VEVENT
END:VCALENDAR